BEGIN:VCALENDAR
VERSION:2.0
METHOD:PUBLISH
BEGIN:VEVENT
DTSTAMP:20260423T033408Z
DTSTART:20261022T200000Z
DTEND:20261022T220000Z
SUMMARY:Take Action Thursdays
LOCATION:Willow Park Ecology Centre
END:VEVENT
END:VCALENDAR
