BEGIN:VCALENDAR
VERSION:2.0
METHOD:PUBLISH
BEGIN:VEVENT
DTSTAMP:20260423T020451Z
DTSTART:20261008T200000Z
DTEND:20261008T220000Z
SUMMARY:Take Action Thursdays
LOCATION:Willow Park Ecology Centre
END:VEVENT
END:VCALENDAR
