BEGIN:VCALENDAR
VERSION:2.0
METHOD:PUBLISH
BEGIN:VEVENT
DTSTAMP:20260423T003444Z
DTSTART:20260625T200000Z
DTEND:20260625T220000Z
SUMMARY:Take Action Thursdays
LOCATION:Willow Park Ecology Centre
END:VEVENT
END:VCALENDAR
