BEGIN:VCALENDAR
VERSION:2.0
METHOD:PUBLISH
BEGIN:VEVENT
DTSTAMP:20260423T003335Z
DTSTART:20260521T200000Z
DTEND:20260521T220000Z
SUMMARY:Take Action Thursdays
LOCATION:Willow Park Ecology Centre
END:VEVENT
END:VCALENDAR
