BEGIN:VCALENDAR
VERSION:2.0
METHOD:PUBLISH
BEGIN:VEVENT
DTSTAMP:20260422T020611Z
DTSTART:20260425T230000Z
DTEND:20260426T030000Z
SUMMARY:80's Night Vinyl Record Party &amp; Fundraiser
LOCATION:19 Willow St. N. Acton Ontario 
END:VEVENT
END:VCALENDAR
