BEGIN:VCALENDAR
VERSION:2.0
METHOD:PUBLISH
BEGIN:VEVENT
DTSTAMP:20260422T020346Z
DTSTART:20260425T130000Z
DTEND:20260425T160000Z
SUMMARY:Trees for Halton Hills tree planting
LOCATION:13066 Third Line, Acton, Ontario
END:VEVENT
END:VCALENDAR
