BEGIN:VCALENDAR
VERSION:2.0
METHOD:PUBLISH
BEGIN:VEVENT
DTSTAMP:20260422T230021Z
DTSTART:20260424T220000Z
DTEND:20260425T010000Z
SUMMARY:Bingo Night at the Legion
LOCATION:Royal Canadian Legion Branch 120, 127 Mill St, Georgetown (2nd Floor)
END:VEVENT
END:VCALENDAR
