BEGIN:VCALENDAR
VERSION:2.0
METHOD:PUBLISH
BEGIN:VEVENT
DTSTAMP:20260422T020628Z
DTSTART:20260418T130000Z
DTEND:20260418T160000Z
SUMMARY:Trees for Halton Hills tree planting
LOCATION:301 Armstrong Avenue, Georgetown
END:VEVENT
END:VCALENDAR
