BEGIN:VCALENDAR
VERSION:2.0
METHOD:PUBLISH
BEGIN:VEVENT
DTSTAMP:20260422T020140Z
DTSTART:20260418T123000Z
DTEND:20260418T203000Z
SUMMARY:Earth Week - Community Cleanup - at your convenience
END:VEVENT
END:VCALENDAR
