BEGIN:VCALENDAR
VERSION:2.0
METHOD:PUBLISH
BEGIN:VEVENT
DTSTAMP:20260422T230153Z
DTSTART:20260411T180000Z
DTEND:20260411T200000Z
SUMMARY:Sap to Syrup Workshop
LOCATION:14452 Winston Churchill Blvd.
END:VEVENT
END:VCALENDAR
