BEGIN:VCALENDAR
VERSION:2.0
METHOD:PUBLISH
BEGIN:VEVENT
DTSTAMP:20260422T015951Z
DTSTART:20260411T133000Z
DTEND:20260411T160000Z
SUMMARY:Acton Invasive Plant Removal
LOCATION:415 Queen Street East, Acton
END:VEVENT
END:VCALENDAR
