BEGIN:VCALENDAR
VERSION:2.0
METHOD:PUBLISH
BEGIN:VEVENT
DTSTAMP:20260422T020642Z
DTSTART:20260411T133000Z
DTEND:20260411T160000Z
SUMMARY:Acton Invasive Plan Removal
LOCATION:Tanners Drive Park, 415 Queen St E Acton, Ontario L7J 2N2 Canada
END:VEVENT
END:VCALENDAR
