BEGIN:VCALENDAR
VERSION:2.0
METHOD:PUBLISH
BEGIN:VEVENT
DTSTAMP:20260423T052309Z
DTSTART:20260405T140000Z
DTEND:20260405T160000Z
SUMMARY:Sap to Syrup Workshop
LOCATION:14452 Winston Churchill Blvd.
END:VEVENT
END:VCALENDAR
