BEGIN:VCALENDAR
VERSION:2.0
METHOD:PUBLISH
BEGIN:VEVENT
DTSTAMP:20260422T020702Z
DTSTART:20260403T000000Z
DTEND:20260403T010000Z
SUMMARY:The April Fools-ish Improv Show
LOCATION:9 Church St, Georgetown, ON L7G 2A3
END:VEVENT
END:VCALENDAR
