BEGIN:VCALENDAR
VERSION:2.0
METHOD:PUBLISH
BEGIN:VEVENT
DTSTAMP:20260422T034117Z
DTSTART:20260401T220000Z
DTEND:20260402T000000Z
SUMMARY:Environmental Symposium
LOCATION:Mold-Masters SportsPlex, 221 Guelph St. (Alcott Room, second floor) Georgetown 
END:VEVENT
END:VCALENDAR
