BEGIN:VCALENDAR
VERSION:2.0
METHOD:PUBLISH
BEGIN:VEVENT
DTSTAMP:20260420T070953Z
DTSTART:20250217T180000Z
DTEND:20250217T220000Z
SUMMARY:Family Day at the Library - Georgetown
LOCATION:9 Church Street, Georgetown, ON, L7G 2A3
END:VEVENT
END:VCALENDAR
