BEGIN:VCALENDAR
VERSION:2.0
METHOD:PUBLISH
BEGIN:VEVENT
DTSTAMP:20260424T131655Z
DTSTART:20241130T150000Z
DTEND:20241130T200000Z
SUMMARY:Georgetown Winter Wonder
LOCATION:9 Church Street, Georgetown, ON, L7G 2A3
END:VEVENT
END:VCALENDAR
