BEGIN:VCALENDAR
VERSION:2.0
METHOD:PUBLISH
BEGIN:VEVENT
DTSTAMP:20260423T204205Z
DTSTART:20241030T223000Z
DTEND:20241031T000000Z
SUMMARY:Acton Community Garden workbee and community gathering
LOCATION:24 Elizabeth Dr, Acton
END:VEVENT
END:VCALENDAR
