BEGIN:VCALENDAR
VERSION:2.0
METHOD:PUBLISH
BEGIN:VEVENT
DTSTAMP:20260424T052148Z
DTSTART:20241010T200000Z
DTEND:20241010T230000Z
SUMMARY:Acton Outdoor Market
LOCATION:30 Park Avenue, Acton, Ontario
END:VEVENT
END:VCALENDAR
