BEGIN:VCALENDAR
VERSION:2.0
METHOD:PUBLISH
BEGIN:VEVENT
DTSTAMP:20260425T235901Z
DTSTART:20240914T150000Z
DTEND:20240914T220000Z
SUMMARY:Head for the Hills Craft Beverage Festival
LOCATION:11494 Trafalgar Road, Georgetown, ON, L7G 4S4
END:VEVENT
END:VCALENDAR
