BEGIN:VCALENDAR
VERSION:2.0
METHOD:PUBLISH
BEGIN:VEVENT
DTSTAMP:20260424T063704Z
DTSTART:20240912T200000Z
DTEND:20240912T230000Z
SUMMARY:Acton Outdoor Market
LOCATION:30 Park Avenue, Acton, Ontario
END:VEVENT
END:VCALENDAR
