BEGIN:VCALENDAR
VERSION:2.0
METHOD:PUBLISH
BEGIN:VEVENT
DTSTAMP:20260426T012107Z
DTSTART:20240908T130000Z
DTEND:20240909T030000Z
SUMMARY:Georgetown Fall Fair 
LOCATION:1 Park Avenue, Georgetown, Onatrio
END:VEVENT
END:VCALENDAR
