BEGIN:VCALENDAR
VERSION:2.0
METHOD:PUBLISH
BEGIN:VEVENT
DTSTAMP:20260424T063941Z
DTSTART:20240905T200000Z
DTEND:20240905T230000Z
SUMMARY:Acton Outdoor Market
LOCATION:30 Park Avenue, Acton, Ontario
END:VEVENT
END:VCALENDAR
