BEGIN:VCALENDAR
VERSION:2.0
METHOD:PUBLISH
BEGIN:VEVENT
DTSTAMP:20260424T052658Z
DTSTART:20240829T200000Z
DTEND:20240829T230000Z
SUMMARY:Acton Outdoor Market
LOCATION:30 Park Avenue, Acton, Ontario
END:VEVENT
END:VCALENDAR
