BEGIN:VCALENDAR
VERSION:2.0
METHOD:PUBLISH
BEGIN:VEVENT
DTSTAMP:20260424T051657Z
DTSTART:20240822T200000Z
DTEND:20240822T230000Z
SUMMARY:Acton Outdoor Market
LOCATION:30 Park Avenue, Acton, Ontario
END:VEVENT
END:VCALENDAR
