BEGIN:VCALENDAR
VERSION:2.0
METHOD:PUBLISH
BEGIN:VEVENT
DTSTAMP:20260423T134934Z
DTSTART:20240706T121500Z
DTEND:20240706T170000Z
SUMMARY:Plein Air Painting Challenge
LOCATION:Helson Gallery 9 Church Street Halton Hills, ON L7G 2A3
END:VEVENT
END:VCALENDAR
