BEGIN:VCALENDAR
VERSION:2.0
METHOD:PUBLISH
BEGIN:VEVENT
DTSTAMP:20260425T154719Z
DTSTART:20240518T210000Z
DTEND:20240519T030000Z
SUMMARY:Fireworks Family Night
LOCATION:9430 Guelph Line, Milton, ON, L0P1B0
END:VEVENT
END:VCALENDAR
