BEGIN:VCALENDAR
VERSION:2.0
METHOD:PUBLISH
BEGIN:VEVENT
DTSTAMP:20260422T053515Z
DTSTART:20240414T140000Z
DTEND:20240414T200000Z
SUMMARY:Sap to Syrup: A Maple Syrup Making Experience
LOCATION:Terra Cotta Conservation Area, 14452 Winston Churchill Blvd, Halton Hills ON, L7G 0N9
END:VEVENT
END:VCALENDAR
